BEGIN:VCALENDAR
VERSION:2.0
PRODID:icalendar-ruby
CALSCALE:GREGORIAN
METHOD:PUBLISH
BEGIN:VEVENT
DTSTAMP:20260420T133729Z
UID:101-814057@abundantlifechapel.ca
DTSTART:20260525T000000Z
DTEND:20260525T013000Z
CLASS:PUBLIC
CREATED:20260419T085739
DESCRIPTION:Please join us one Sunday evening of each month for an evening 
 of singing traditional Hymns\, Testimonies and fellowship!  Bring a plate
  of goodies to share if you can.  **Use the side office entrance of the c
 hurch and head down the stairs to Jason's Room. We hope to see you there!\
 nFor more information contact Bob &amp\; Kathy Derksen 
LAST-MODIFIED:20260419T085739
LOCATION:Jason's Room Abundant Life Chapel
SUMMARY:The Living Room
URL;VALUE=URI:https://www.abundantlifechapel.ca/events/the-living-room--101
 /2026-05-24
ATTACH;FILENAME=hymn piano.jpg;FMTTYPE=image/jpeg:https://dq5pwpg1q8ru0.clo
 udfront.net/2019/01/10/08/31/41/a9f0d9a0-affc-45d9-b728-76a3e3e3f13f/hymn%
 20piano.jpg
END:VEVENT
END:VCALENDAR
